BEGIN:VCALENDAR
VERSION:2.0
PRODID:-//Greater Hamilton Health Network | GHHN - ECPv6.15.18//NONSGML v1.0//EN
CALSCALE:GREGORIAN
METHOD:PUBLISH
X-ORIGINAL-URL:https://greaterhamiltonhealthnetwork.ca
X-WR-CALDESC:Events for Greater Hamilton Health Network | GHHN
REFRESH-INTERVAL;VALUE=DURATION:PT1H
X-Robots-Tag:noindex
X-PUBLISHED-TTL:PT1H
BEGIN:VTIMEZONE
TZID:America/Toronto
BEGIN:DAYLIGHT
TZOFFSETFROM:-0500
TZOFFSETTO:-0400
TZNAME:EDT
DTSTART:20220313T070000
END:DAYLIGHT
BEGIN:STANDARD
TZOFFSETFROM:-0400
TZOFFSETTO:-0500
TZNAME:EST
DTSTART:20221106T060000
END:STANDARD
BEGIN:DAYLIGHT
TZOFFSETFROM:-0500
TZOFFSETTO:-0400
TZNAME:EDT
DTSTART:20230312T070000
END:DAYLIGHT
BEGIN:STANDARD
TZOFFSETFROM:-0400
TZOFFSETTO:-0500
TZNAME:EST
DTSTART:20231105T060000
END:STANDARD
BEGIN:DAYLIGHT
TZOFFSETFROM:-0500
TZOFFSETTO:-0400
TZNAME:EDT
DTSTART:20240310T070000
END:DAYLIGHT
BEGIN:STANDARD
TZOFFSETFROM:-0400
TZOFFSETTO:-0500
TZNAME:EST
DTSTART:20241103T060000
END:STANDARD
END:VTIMEZONE
BEGIN:VEVENT
DTSTART;TZID=America/Toronto:20230518T150000
DTEND;TZID=America/Toronto:20230518T160000
DTSTAMP:20260422T185345
CREATED:20230502T190118Z
LAST-MODIFIED:20240319T094216Z
UID:3104-1684422000-1684425600@greaterhamiltonhealthnetwork.ca
SUMMARY:Safer Use Drug Space Open House at YWCA Hamilton
DESCRIPTION:Join YWCA Hamilton as they offer an Open House of their Safer Use Drug Space located at 75 MacNab Street South.
URL:https://greaterhamiltonhealthnetwork.ca/event/safer-use-drug-space-open-house-at-ywca-hamilton/
LOCATION:YWCA Hamilton\, 75 MacNab Street South\, Hamilton\, Ontario\, L8P 3C1\, Canada
CATEGORIES:GHHN
END:VEVENT
END:VCALENDAR