BEGIN:VCALENDAR
VERSION:2.0
PRODID:-//Greater Hamilton Health Network | GHHN - ECPv6.15.18//NONSGML v1.0//EN
CALSCALE:GREGORIAN
METHOD:PUBLISH
X-WR-CALNAME:Greater Hamilton Health Network | GHHN
X-ORIGINAL-URL:https://greaterhamiltonhealthnetwork.ca
X-WR-CALDESC:Events for Greater Hamilton Health Network | GHHN
REFRESH-INTERVAL;VALUE=DURATION:PT1H
X-Robots-Tag:noindex
X-PUBLISHED-TTL:PT1H
BEGIN:VTIMEZONE
TZID:America/Toronto
BEGIN:DAYLIGHT
TZOFFSETFROM:-0500
TZOFFSETTO:-0400
TZNAME:EDT
DTSTART:20220313T070000
END:DAYLIGHT
BEGIN:STANDARD
TZOFFSETFROM:-0400
TZOFFSETTO:-0500
TZNAME:EST
DTSTART:20221106T060000
END:STANDARD
BEGIN:DAYLIGHT
TZOFFSETFROM:-0500
TZOFFSETTO:-0400
TZNAME:EDT
DTSTART:20230312T070000
END:DAYLIGHT
BEGIN:STANDARD
TZOFFSETFROM:-0400
TZOFFSETTO:-0500
TZNAME:EST
DTSTART:20231105T060000
END:STANDARD
BEGIN:DAYLIGHT
TZOFFSETFROM:-0500
TZOFFSETTO:-0400
TZNAME:EDT
DTSTART:20240310T070000
END:DAYLIGHT
BEGIN:STANDARD
TZOFFSETFROM:-0400
TZOFFSETTO:-0500
TZNAME:EST
DTSTART:20241103T060000
END:STANDARD
END:VTIMEZONE
BEGIN:VEVENT
DTSTART;TZID=America/Toronto:20230531T180000
DTEND;TZID=America/Toronto:20230531T190000
DTSTAMP:20260422T233541
CREATED:20230502T193754Z
LAST-MODIFIED:20240319T094216Z
UID:3133-1685556000-1685559600@greaterhamiltonhealthnetwork.ca
SUMMARY:Harm Reduction in Emergency and Paramedicine (Virtual Webinar)
DESCRIPTION:Join us on Wednesday\, May 31st 6:00-7:00PM as we delve into all things Harm Reduction in Emergency and Front-Line settings. Please register here. \nJoin us to learn: \n\nWhat a harm reduction approach looks like\, and how you can integrate these approaches into your practice\nThe evidence for existing and emerging harm reduction interventions\nThe impact of this work\, including Public Health Data and personal stories from people with lived experience\nWhat local resources and safe equipment is available\n\n  \nWho Should Attend? \n\nAnyone working as a first responder (paramedics\, fire fighters\, police\, and more!)\nAnyone working in Emergency Medicine settings.\n\n  \nSpeakers: \n\nDr. Lauren Cook-Chaimowitz\, Addicitions Medicine Specialist\nDavid Thompson\, Superintendent\nMelissa Biksa\, Manager of Mental Well-Being and Substance Use\nAmanda Nemec-Bakk\, Nurse for Keeping Six and HAMSMaRT\nMarcie McIlveen\, Keeping Six Program Co-ordinator\n\n  \nQuestions/Comments? Email us at Info@GHHN.ca.
URL:https://greaterhamiltonhealthnetwork.ca/event/harm-reduction-in-emergency-and-paramedicine-virtual-webinar/
LOCATION:ON
CATEGORIES:GHHN
ATTACH;FMTTYPE=image/png:https://greaterhamiltonhealthnetwork.ca/wp-content/uploads/2023/05/Harm-Reduction-Socials-Sized-.png
ORGANIZER;CN="Greater Hamilton Health Network":MAILTO:info@ghhn.ca
END:VEVENT
END:VCALENDAR