BEGIN:VCALENDAR
VERSION:2.0
PRODID:-//Greater Hamilton Health Network | GHHN - ECPv6.15.18//NONSGML v1.0//EN
CALSCALE:GREGORIAN
METHOD:PUBLISH
X-WR-CALNAME:Greater Hamilton Health Network | GHHN
X-ORIGINAL-URL:https://greaterhamiltonhealthnetwork.ca
X-WR-CALDESC:Events for Greater Hamilton Health Network | GHHN
REFRESH-INTERVAL;VALUE=DURATION:PT1H
X-Robots-Tag:noindex
X-PUBLISHED-TTL:PT1H
BEGIN:VTIMEZONE
TZID:America/Toronto
BEGIN:DAYLIGHT
TZOFFSETFROM:-0500
TZOFFSETTO:-0400
TZNAME:EDT
DTSTART:20220313T070000
END:DAYLIGHT
BEGIN:STANDARD
TZOFFSETFROM:-0400
TZOFFSETTO:-0500
TZNAME:EST
DTSTART:20221106T060000
END:STANDARD
BEGIN:DAYLIGHT
TZOFFSETFROM:-0500
TZOFFSETTO:-0400
TZNAME:EDT
DTSTART:20230312T070000
END:DAYLIGHT
BEGIN:STANDARD
TZOFFSETFROM:-0400
TZOFFSETTO:-0500
TZNAME:EST
DTSTART:20231105T060000
END:STANDARD
BEGIN:DAYLIGHT
TZOFFSETFROM:-0500
TZOFFSETTO:-0400
TZNAME:EDT
DTSTART:20240310T070000
END:DAYLIGHT
BEGIN:STANDARD
TZOFFSETFROM:-0400
TZOFFSETTO:-0500
TZNAME:EST
DTSTART:20241103T060000
END:STANDARD
END:VTIMEZONE
BEGIN:VEVENT
DTSTART;TZID=America/Toronto:20230529T180000
DTEND;TZID=America/Toronto:20230529T190000
DTSTAMP:20260419T094921
CREATED:20230502T193206Z
LAST-MODIFIED:20240319T094216Z
UID:3129-1685383200-1685386800@greaterhamiltonhealthnetwork.ca
SUMMARY:The Greater Hamilton Area's Drug Poisoning Crisis: Creating a Supportive Community (Virtual Webinar)
DESCRIPTION:The GHHN and partner organizations are excited to host a community-wide virtual webinar\, ‘The Greater Hamilton Area’s Drug Poisoning Crisis: Creating a Supportive Community.’ \nJoin us as we answer your questions around harm reduction and the drug poisoning crisis: \n\nWhat is harm reduction? What is a toxic drug supply?\nDoes harm reduction lead to crime?\nWill harm reduction services in my neighborhood be safe?\nWill talking about drugs and harm reduction with my children lead to them taking drugs?\nHave other questions? Email us your questions ahead of time.\n\n*Hear personal stories from people with lived experience and how they want to be supported by their community!* \nTo access the webinar\, join us on Zoom here: https://us06web.zoom.us/j/88002420902 \n 
URL:https://greaterhamiltonhealthnetwork.ca/event/the-greater-hamilton-areas-drug-poisoning-crisis-creating-a-supportive-community-virtual-webinar/
LOCATION:Ontario
CATEGORIES:GHHN
ATTACH;FMTTYPE=image/png:https://greaterhamiltonhealthnetwork.ca/wp-content/uploads/2023/05/Community.png
ORGANIZER;CN="Greater Hamilton Health Network":MAILTO:info@ghhn.ca
END:VEVENT
BEGIN:VEVENT
DTSTART;TZID=America/Toronto:20230524T080000
DTEND;TZID=America/Toronto:20230524T090000
DTSTAMP:20260419T094921
CREATED:20230502T192600Z
LAST-MODIFIED:20240319T094216Z
UID:3125-1684915200-1684918800@greaterhamiltonhealthnetwork.ca
SUMMARY:Harm Reduction in Primary Care (Virtual Webinar)
DESCRIPTION:Family Medicine Rounds on Wednesday\, May 24th will be focused on Harm Reduction in Primary Care. To register and to receive webinar details\, please email HFAM@GHHN.ca. \nJoin us to learn: \n\nWhat a harm reduction approach looks like\, and how you can integrate these approaches into your primary care practice\nThe evidence for existing and emerging harm reduction interventions\nAvailable local resources for you and your patients\n\n  \nWho Should Attend? \n\nAnyone working in primary care!\nIncluding but not limited to: family physicians\, nurses\, physician assistants\, pharmacists\, mental health counsellors\, dietitians\, and more!\n\n  \nSpeakers: \n\nDr. Robin Lennox\, Family Physician and Addictions Specialist\nMarcie McIlveen\, Keeping Six Program Co-Ordinator\nDr. Claire Bodkin\, Family and HAMSMaRT Physician\nNadine Favics\, Manager\, Consumption and Treatment Service
URL:https://greaterhamiltonhealthnetwork.ca/event/harm-reduction-in-primary-care-virtual-webinar/
LOCATION:Ontario
CATEGORIES:GHHN
ATTACH;FMTTYPE=image/png:https://greaterhamiltonhealthnetwork.ca/wp-content/uploads/2023/05/Primary-Care-Objectives.png
ORGANIZER;CN="HFAM":MAILTO:HFAM@GHHN.ca
END:VEVENT
BEGIN:VEVENT
DTSTART;TZID=America/Toronto:20230518T150000
DTEND;TZID=America/Toronto:20230518T160000
DTSTAMP:20260419T094921
CREATED:20230502T190118Z
LAST-MODIFIED:20240319T094216Z
UID:3104-1684422000-1684425600@greaterhamiltonhealthnetwork.ca
SUMMARY:Safer Use Drug Space Open House at YWCA Hamilton
DESCRIPTION:Join YWCA Hamilton as they offer an Open House of their Safer Use Drug Space located at 75 MacNab Street South.
URL:https://greaterhamiltonhealthnetwork.ca/event/safer-use-drug-space-open-house-at-ywca-hamilton/
LOCATION:YWCA Hamilton\, 75 MacNab Street South\, Hamilton\, Ontario\, L8P 3C1\, Canada
CATEGORIES:GHHN
END:VEVENT
BEGIN:VEVENT
DTSTART;TZID=America/Toronto:20230510T103000
DTEND;TZID=America/Toronto:20230510T113000
DTSTAMP:20260419T094921
CREATED:20230502T185021Z
LAST-MODIFIED:20240319T094216Z
UID:3093-1683714600-1683718200@greaterhamiltonhealthnetwork.ca
SUMMARY:Consumption and Treatment Services Open House at Hamilton Urban Core CHC
DESCRIPTION:Join Hamilton Urban Core CHC as they offer an Open House of their Consumption and Treatment Service site located at St. Paul’s Presbyterian Church. Please book your spot by emailing CTSAdministration@HUCCHC.com. \n\nTake a tour\nFind out about the services\nGet information on substance use & have your questions answered\nLearn about how you can support the CTS\n\nConsumption and Treatment Services (CTS) are integrated\, wrap-around services that connect clients who use drugs to primary care\, treatment\, and other health and social services. They operate as lifeguard stations for IV drug use. They provide a safe environment\, harm reduction supplies and immediate support in the case of an overdose. \nPlease contact us to book an appointment CTSAdministration@HUCCHC.com \n 
URL:https://greaterhamiltonhealthnetwork.ca/event/consumption-and-treatment-services-open-house-at-hamilton-urban-core-chc/
LOCATION:Hamilton Urban Core CTS\, 70 James Street South\, Hamilton\, Ontario\, L8P 2Y8\, Canada
CATEGORIES:GHHN
ATTACH;FMTTYPE=image/png:https://greaterhamiltonhealthnetwork.ca/wp-content/uploads/2023/05/CTS-Open-House.png
ORGANIZER;CN="Hamilton Urban Core CHC":MAILTO:CTSAdministration@HUCCHC.com
END:VEVENT
BEGIN:VEVENT
DTSTART;TZID=America/Toronto:20230508T100000
DTEND;TZID=America/Toronto:20230508T140000
DTSTAMP:20260419T094921
CREATED:20230502T181628Z
LAST-MODIFIED:20240319T094216Z
UID:3078-1683540000-1683554400@greaterhamiltonhealthnetwork.ca
SUMMARY:Open House at Good Shepherd Square
DESCRIPTION:Join Good Shepherd for an in-person training session on naloxone and safe gear. Feel free to stop by anytime on Monday\, May 8th between 10am – 2pm. For questions\, please email Good Shepherd at edakers@gsch.ca \n 
URL:https://greaterhamiltonhealthnetwork.ca/event/open-house-at-good-shepherd-squareabout-wordpress-greater-hamilton-health-network-ghhn-33-updates-available-new-events-howdy-ghhn_admin-log-out-screen-options-add-new-event-event-tickets-start-sell/
LOCATION:Good Shepherd Square\, 15 Ray St North\, Hamilton\, ON\, L8R2X5\, Canada
CATEGORIES:GHHN
ATTACH;FMTTYPE=image/png:https://greaterhamiltonhealthnetwork.ca/wp-content/uploads/2023/05/Harm-Reduction-Socials-Sized-7.png
ORGANIZER;CN="Good Shepherd":MAILTO:edakers@gsch.ca
END:VEVENT
END:VCALENDAR